BEGIN:VCALENDAR
VERSION:2.0
PRODID:-//wp-events-plugin.com//7.2.3.1//EN
TZID:Europe/Berlin
X-WR-TIMEZONE:Europe/Berlin
BEGIN:VEVENT
UID:1202@ecclesia-neumarkt.de
DTSTART;TZID=Europe/Berlin:20260315T100000
DTEND;TZID=Europe/Berlin:20260315T113000
DTSTAMP:20260128T134844Z
URL:https://ecclesia-neumarkt.de/veranstaltungen/kirche-im-kino-maerz-2026
 -2026-03-15/
SUMMARY:Kirche im Kino – März 2026
DESCRIPTION:Im März 2026 feiern wir wieder Kirche im Kino – eine besonde
 re Gottesdienstreihe im Cineplex Neumarkt!An den Sonntagen 15.\, 22. und 2
 9. März\, jeweils um 10:00 Uhr\, laden wir herzlich ein zu inspirierenden
  Gottesdiensten in besonderer Atmosphäre.\n👨‍👩‍👧‍👦 Mit 
 Kinderprogramm – ideal für die ganze Familie📍 Ort: Cineplex Neumarkt
 🌐 Mehr Infos: www.ecclesia-neumarkt.de\nErlebe Kirche einmal anders –
  offen\, einladend und mitten im Alltag. Komm vorbei und bring gerne Freun
 de mit! 🍿✨
ATTACH;FMTTYPE=image/jpeg:https://ecclesia-neumarkt.de/wp-content/uploads/
 2026/01/Kirche-im-Kino-2026-Maerz-Beamer.png
CATEGORIES:Temp
LOCATION:Cineplex Neumarkt\, Dammstraße 1\, Neumarkt in der Oberpfalz\, 92
 318\, Deutschland
X-APPLE-STRUCTURED-LOCATION;VALUE=URI;X-ADDRESS=Dammstraße 1\, Neumarkt in
  der Oberpfalz\, 92318\, Deutschland;X-APPLE-RADIUS=100;X-TITLE=Cineplex N
 eumarkt:geo:0,0
END:VEVENT
BEGIN:VTIMEZONE
TZID:Europe/Berlin
X-LIC-LOCATION:Europe/Berlin
BEGIN:STANDARD
DTSTART:20251026T020000
TZOFFSETFROM:+0200
TZOFFSETTO:+0100
TZNAME:CET
END:STANDARD
END:VTIMEZONE
END:VCALENDAR