BEGIN:VCALENDAR
VERSION:2.0
PRODID:-//wp-events-plugin.com//7.2.3.1//EN
TZID:Europe/Berlin
X-WR-TIMEZONE:Europe/Berlin
BEGIN:VEVENT
UID:1115@ecclesia-neumarkt.de
DTSTART;TZID=Europe/Berlin;VALUE=DATE:20240317
DTEND;TZID=Europe/Berlin;VALUE=DATE:20240501
DTSTAMP:20240316T214207Z
URL:https://ecclesia-neumarkt.de/veranstaltungen/predigtserie-2/
SUMMARY:Predigtserie
DESCRIPTION:Predigtserie: „Was hat es mit Israel als Volk Gottes auf Sich
 ?!“\n\nOstern steht wieder vor der Tür\, doch Jesus hat anstatt Ostern 
 Passah gefeiert\, dass wollen wir als Ecclesia Kirche Neumarkt zum Anlass 
 nehmen\, uns mit dem Thema Israel zu befassen. Wir werden Predigten zum Th
 ema hören und gemeinsam das Passahfest am Karfreitag feiern. Die ganze Fa
 milie ist herzlich eingeladen bei einem kurzen Gottesdienst und der anschl
 ießenden Traditionell-Messianischen Passahfeier und einem ausgiebigen Fes
 tmahl unseren Gott zu feiern.\n\nZum Krönenden Abschluss werden wir einen
  Gastprediger aus Israel begrüßen. Ron Cantor (https://roncantor.com/) w
 ar Pastor einer Messianisch-Jüdischen Gemeinde und aktuell viel im Bereic
 h Online- Evangelisation tätig.
ATTACH;FMTTYPE=image/jpeg:https://ecclesia-neumarkt.de/wp-content/uploads/
 2024/03/Das-Volk-Israel-Maerz-und-April-2024.png
END:VEVENT
BEGIN:VTIMEZONE
TZID:Europe/Berlin
X-LIC-LOCATION:Europe/Berlin
BEGIN:STANDARD
DTSTART:20231029T020000
TZOFFSETFROM:+0200
TZOFFSETTO:+0100
TZNAME:CET
END:STANDARD
BEGIN:DAYLIGHT
DTSTART:20240331T030000
TZOFFSETFROM:+0100
TZOFFSETTO:+0200
TZNAME:CEST
END:DAYLIGHT
END:VTIMEZONE
END:VCALENDAR